BEGIN:VCALENDAR
VERSION:2.0
PRODID:icalendar-ruby
CALSCALE:GREGORIAN
METHOD:PUBLISH
BEGIN:VEVENT
DTSTAMP:20260422T000906Z
UID:8-1276096@livingwordofwaco.com
DTSTART:20260913T160500Z
DTEND:20260913T180000Z
CLASS:PUBLIC
CREATED:20260421T175644
DESCRIPTION:
LAST-MODIFIED:20260421T175644
LOCATION:1000 Steamboat Dr. Hewitt TX
SUMMARY:Sunday Lunch
URL;VALUE=URI:https://livingwordofwaco.com/events/sunday-lunch/2026-09-13
ATTACH;FILENAME=F1MKC.jpg;FMTTYPE=image/jpeg:https://dq5pwpg1q8ru0.cloudfro
 nt.net/2025/08/17/01/44/03/b4d0a0e0-38e7-4667-a9db-517afb1c2393/F1MKC.jpg
END:VEVENT
END:VCALENDAR
