BEGIN:VCALENDAR
VERSION:2.0
PRODID:icalendar-ruby
CALSCALE:GREGORIAN
METHOD:PUBLISH
BEGIN:VEVENT
DTSTAMP:20260421T182225Z
UID:7-1275768@livingwordofwaco.com
DTSTART:20260823T150000Z
DTEND:20260823T160000Z
CLASS:PUBLIC
CREATED:20260421T124222
DESCRIPTION:
LAST-MODIFIED:20260421T124222
LOCATION:1000 Steamboat Dr. Hewitt TX
SUMMARY:Sunday Worship
URL;VALUE=URI:https://livingwordofwaco.com/events/sunday-worship--6/2026-08
 -23
ATTACH;FILENAME=Living-Word-logo-trad-black-and-white-.jpg;FMTTYPE=image/jp
 eg:https://dq5pwpg1q8ru0.cloudfront.net/2025/08/10/02/46/28/b975800c-1c8c-
 43c6-8b57-5244da606c84/Living-Word-logo-trad-black-and-white-.jpg
END:VEVENT
END:VCALENDAR
